BEGIN:VCALENDAR
VERSION:2.0
PRODID:-//Library Market//iCal Export//EN
BEGIN:VEVENT
SUMMARY:Scam and Fraud alert class
UID:105359
DTSTAMP:20260423T055200Z
DTSTART:20260512T200000Z
DTEND:20260512T220000Z
LOCATION:United States
ROOM: Cottonwood Public Library - Dede Ewald Room
DESCRIPTION:YCSO taught class regarding fraud alerts and a knowledge of wh
 at scams are currently going around
URL:https://yavapai.events/event/scam-and-fraud-alert-class-105359
END:VEVENT
END:VCALENDAR
