BEGIN:VCALENDAR
VERSION:2.0
PRODID:-//Library Market//iCal Export//EN
BEGIN:VEVENT
SUMMARY:Gardening Talks: Intensive Gardening
UID:106782
DTSTAMP:20260423T003100Z
DTSTART:20260522T010000Z
DTEND:20260522T023000Z
LOCATION:215 E Goodwin St, Prescott, AZ 86303, United States
ROOM: Gardening Talks: Intensive Gardening
DESCRIPTION: In this Gardening Talk presented by the Yavapai County Maste
 r Gardeners, learn what intensive gardening is, complete with popular tech
 niques in arranging plant relationships, considering for pest and pollinat
 ors, and crop rotation. This program is presented by the University of Ari
 zona Cooperative Extension Office.
URL:https://yavapai.events/event/gardening-talks-intensive-gardening-10678
 2
END:VEVENT
END:VCALENDAR
