BEGIN:VCALENDAR
VERSION:2.0
PRODID:-//Library Market//iCal Export//EN
BEGIN:VEVENT
SUMMARY:General Plan Open House
UID:107015
DTSTAMP:20260423T003100Z
DTSTART:20260718T220000Z
DTEND:20260719T000000Z
LOCATION:130 Black Bridge Rd, Camp Verde, AZ 86322, United States
ROOM: Camp Verde Community Library - Terracotta Room
DESCRIPTION:.
URL:https://yavapai.events/event/general-plan-open-house-107015
END:VEVENT
END:VCALENDAR
