BEGIN:VCALENDAR
VERSION:2.0
PRODID:-//Library Market//iCal Export//EN
BEGIN:VEVENT
SUMMARY:Teen Kindness Bookmarks
UID:107020
DTSTAMP:20260424T120500Z
DTSTART:20260501T223000Z
DTEND:20260501T233000Z
LOCATION:100 S 6th St, Cottonwood, AZ 86326, United States
ROOM: Teen Kindness Bookmarks
DESCRIPTION:Teens ages 13-18 can join us to create a kind bookmark for a s
 tranger.Friday, May 1st from 3:30-4:30 pm.
URL:https://yavapai.events/event/teen-kindness-bookmarks-107020
END:VEVENT
END:VCALENDAR
