BEGIN:VCALENDAR
VERSION:2.0
PRODID:-//Library Market//iCal Export//EN
BEGIN:VEVENT
SUMMARY:Tween Club: Cookies and Creating
UID:107021
DTSTAMP:20260424T134400Z
DTSTART:20260506T201500Z
DTEND:20260506T210000Z
LOCATION:100 S 6th St, Cottonwood, AZ 86326, United States
ROOM: Tween Club: Cookies and Creating
DESCRIPTION:Children ages 8 and up can join us for a fun activity. Most We
 dnesdays from 1:15-2 pm. Today will be cookies and creating.
URL:https://yavapai.events/event/tween-club-cookies-and-creating-107021
END:VEVENT
END:VCALENDAR
