BEGIN:VCALENDAR
VERSION:2.0
PRODID:-//Library Market//iCal Export//EN
BEGIN:VEVENT
SUMMARY:Cookies and Coloring
UID:107022
DTSTAMP:20260424T135200Z
DTSTART:20260506T220000Z
DTEND:20260506T230000Z
LOCATION:100 S 6th St, Cottonwood, AZ 86326, United States
ROOM: Cookies and Coloring
DESCRIPTION:Children of all ages join us for cookies and coloring.Wednesda
 y, May 6th from3-4 pm.
URL:https://yavapai.events/event/cookies-and-coloring-107022
END:VEVENT
END:VCALENDAR
