BEGIN:VCALENDAR
VERSION:2.0
PRODID:-//Library Market//iCal Export//EN
BEGIN:VEVENT
SUMMARY:Teen Cookies and Complaining
UID:107024
DTSTAMP:20260424T135000Z
DTSTART:20260506T223000Z
DTEND:20260506T233000Z
LOCATION:100 S 6th St, Cottonwood, AZ 86326, United States
ROOM: Teen Cookies and Complaining
DESCRIPTION:Eat cookies and complain! Ages 13-18.Wednesday, May 6th from3:
 30-4:30 pm.
URL:https://yavapai.events/event/teen-cookies-and-complaining-107024
END:VEVENT
END:VCALENDAR
