BEGIN:VCALENDAR
VERSION:2.0
PRODID:-//Library Market//iCal Export//EN
BEGIN:VEVENT
SUMMARY:Teen Hangout
UID:107025
DTSTAMP:20260424T134700Z
DTSTART:20260508T223000Z
DTEND:20260508T233000Z
LOCATION:100 S 6th St, Cottonwood, AZ 86326, United States
ROOM: Teen Hangout
DESCRIPTION:Teens ages 13-18 join us and hang out with friends.Friday, May
  8th from 3:30-4:30 pm.
URL:https://yavapai.events/event/teen-hangout-107025
END:VEVENT
END:VCALENDAR
