BEGIN:VCALENDAR
VERSION:2.0
PRODID:-//Library Market//iCal Export//EN
BEGIN:VEVENT
SUMMARY:Tween Club: Jar Upcycle
UID:107027
DTSTAMP:20260423T055200Z
DTSTART:20260513T201500Z
DTEND:20260513T210000Z
LOCATION:100 S 6th St, Cottonwood, AZ 86326, United States
ROOM: Tween Club: Jar Upcycle
DESCRIPTION:Tweens ages 8-12 can join us for a fun upcycle craft! All supp
 lies are provided.Wednesday, May 13th from 1:15-2 pm.
URL:https://yavapai.events/event/tween-club-jar-upcycle-107027
END:VEVENT
END:VCALENDAR
