BEGIN:VCALENDAR
VERSION:2.0
PRODID:-//Library Market//iCal Export//EN
BEGIN:VEVENT
SUMMARY:Tween VR
UID:107028
DTSTAMP:20260423T055200Z
DTSTART:20260513T213000Z
DTEND:20260513T224500Z
LOCATION:100 S 6th St, Cottonwood, AZ 86326, United States
ROOM: Tween VR
DESCRIPTION:Kids ages 8-12 take turns playing with our VR headsets!Wednesd
 ay, May 13th from2:30-3:45 pm.
URL:https://yavapai.events/event/tween-vr-107028
END:VEVENT
END:VCALENDAR
