BEGIN:VCALENDAR
VERSION:2.0
PRODID:-//Library Market//iCal Export//EN
BEGIN:VEVENT
SUMMARY:Teen Jar Upcycle
UID:107029
DTSTAMP:20260423T055200Z
DTSTART:20260513T223000Z
DTEND:20260513T233000Z
LOCATION:100 S 6th St, Cottonwood, AZ 86326, United States
ROOM: Teen Jar Upcycle
DESCRIPTION:Teens ages 13-18 can join us for a fun upcycle craft! All supp
 lies are provided.Friday, May 15th from 3:30-4:30 pm.
URL:https://yavapai.events/event/teen-jar-upcycle-107029
END:VEVENT
END:VCALENDAR
