BEGIN:VCALENDAR
VERSION:2.0
PRODID:-//Library Market//iCal Export//EN
BEGIN:VEVENT
SUMMARY:Teen Trinket Tray Craft
UID:107030
DTSTAMP:20260423T055200Z
DTSTART:20260515T223000Z
DTEND:20260515T233000Z
LOCATION:100 S 6th St, Cottonwood, AZ 86326, United States
ROOM: Teen Trinket Tray Craft
DESCRIPTION:Teens ages 13-18 can join us for a fun trinket tray craft! All
  supplies are provided.Friday, May 15th from 3:30-4:30 pm.
URL:https://yavapai.events/event/teen-trinket-tray-craft-107030
END:VEVENT
END:VCALENDAR
