BEGIN:VCALENDAR
VERSION:2.0
PRODID:-//Library Market//iCal Export//EN
BEGIN:VEVENT
SUMMARY:Cartooning for Kids
UID:107031
DTSTAMP:20260423T055200Z
DTSTART:20260516T180000Z
DTEND:20260516T190000Z
LOCATION:100 S 6th St, Cottonwood, AZ 86326, United States
ROOM: Cartooning for Kids
DESCRIPTION:Kids and teens from ages 7-18 can come and learn how to draw f
 rom The Janimal, a real cartoon artist!Saturday, May 16th from 11am-12pm.
URL:https://yavapai.events/event/cartooning-kids-107031
END:VEVENT
END:VCALENDAR
