BEGIN:VCALENDAR
VERSION:2.0
PRODID:-//Library Market//iCal Export//EN
BEGIN:VEVENT
SUMMARY:Chess Club
UID:107032
DTSTAMP:20260423T003100Z
DTSTART:20260519T220000Z
DTEND:20260519T230000Z
LOCATION:100 S 6th St, Cottonwood, AZ 86326, United States
ROOM: Chess Club
DESCRIPTION:Kids of all ages can join us for a friendly game of chess. All
  skill levels welcome.Tuesday, May 19th from 3-4 pm.
URL:https://yavapai.events/event/chess-club-107032
END:VEVENT
END:VCALENDAR
