BEGIN:VCALENDAR
VERSION:2.0
PRODID:-//Library Market//iCal Export//EN
BEGIN:VEVENT
SUMMARY:Tween Club: Fuse Beads
UID:107033
DTSTAMP:20260423T003100Z
DTSTART:20260520T210000Z
DTEND:20260520T220000Z
LOCATION:100 S 6th St, Cottonwood, AZ 86326, United States
ROOM: Tween Club: Fuse Beads
DESCRIPTION:Children ages 8 to 12 can join us for some melty pearler bead 
 fun! All supplies provided.Wednesday, May 20th from 2-3 pm.
URL:https://yavapai.events/event/tween-club-fuse-beads-107033
END:VEVENT
END:VCALENDAR
