BEGIN:VCALENDAR
VERSION:2.0
PRODID:-//Library Market//iCal Export//EN
BEGIN:VEVENT
SUMMARY:Teen Fuse Beads
UID:107034
DTSTAMP:20260423T003100Z
DTSTART:20260520T223000Z
DTEND:20260520T233000Z
LOCATION:100 S 6th St, Cottonwood, AZ 86326, United States
ROOM: Teen Fuse Beads
DESCRIPTION:Teens ages 13-18 can join us for some melty pearler bead fun! 
 All supplies provided.Wednesday, May 20th from 3:30-4:30 pm.
URL:https://yavapai.events/event/teen-fuse-beads-107034
END:VEVENT
END:VCALENDAR
