BEGIN:VCALENDAR
VERSION:2.0
PRODID:-//Library Market//iCal Export//EN
BEGIN:VEVENT
SUMMARY:Teen Switch It Up
UID:107038
DTSTAMP:20260423T003100Z
DTSTART:20260522T223000Z
DTEND:20260522T233000Z
LOCATION:100 S 6th St, Cottonwood, AZ 86326, United States
ROOM: Teen Switch It Up
DESCRIPTION:Teens ages 13-18 join us for fun cooperative games on our Swit
 ch!Friday, May 22nd from 3:30-4:30 pm.
URL:https://yavapai.events/event/teen-switch-it-107038
END:VEVENT
END:VCALENDAR
