BEGIN:VCALENDAR
VERSION:2.0
PRODID:-//Library Market//iCal Export//EN
BEGIN:VEVENT
SUMMARY:Lego Club
UID:107039
DTSTAMP:20260424T190800Z
DTSTART:20260527T210000Z
DTEND:20260527T223000Z
LOCATION:100 S 6th St, Cottonwood, AZ 86326, United States
ROOM: Lego Club
DESCRIPTION:Kids of all ages can come and socialize while they complete Le
 go challenges. This is a drop in program, please stay with your child if t
 hey need help.Wednesday, May 27th from2-3:30 pm.
URL:https://yavapai.events/event/lego-club-107039
END:VEVENT
END:VCALENDAR
