BEGIN:VCALENDAR
VERSION:2.0
PRODID:-//Library Market//iCal Export//EN
BEGIN:VEVENT
SUMMARY:Teen Slime
UID:107040
DTSTAMP:20260424T190800Z
DTSTART:20260527T223000Z
DTEND:20260527T233000Z
LOCATION:100 S 6th St, Cottonwood, AZ 86326, United States
ROOM: Teen Slime
DESCRIPTION:Teens ages 13-18 join us to make slime! All supplies are provi
 ded! Wednesday, May 27th from 3:30-4:30pm.
URL:https://yavapai.events/event/teen-slime-107040
END:VEVENT
END:VCALENDAR
