BEGIN:VCALENDAR
VERSION:2.0
PRODID:-//Library Market//iCal Export//EN
BEGIN:VEVENT
SUMMARY:Teen VR
UID:107041
DTSTAMP:20260424T190800Z
DTSTART:20260529T223000Z
DTEND:20260529T233000Z
LOCATION:100 S 6th St, Cottonwood, AZ 86326, United States
ROOM: Teen VR
DESCRIPTION:Teens ages 13-18 take turns playing with our VR headsets!Frida
 y, May 29th from 3:30-4:30 pm.
URL:https://yavapai.events/event/teen-vr-107041
END:VEVENT
END:VCALENDAR
