BEGIN:VCALENDAR
VERSION:2.0
PRODID:-//Library Market//iCal Export//EN
BEGIN:VEVENT
SUMMARY:Teen Crafternoon Kits: Pterodactyl Puppets (Teen Area)
UID:107052
DTSTAMP:20260425T013800Z
DTSTART:20260622T160000Z
DTEND:20260622T161500Z
LOCATION:7401 E. Skoog Blvd, Prescott Valley, AZ 86314, United States
ROOM: Teen Crafternoon Kits: Pterodactyl Puppets (Teen Area)
DESCRIPTION:Come by the Prescott Valley Public Library&#039;s Teen Departm
 ent for Crafternoon Take-Home Kits, available weekly during the Summer Rea
 ding Program’s &quot;Unearth A Story&quot; theme. Each week brings a new
  creative project to explore! Kits can be picked up in the Teen Area while
  supplies last. This week&#039;s craft is Pterodactyl Puppets.Registration
  is not required—first-come, first-served.
URL:https://yavapai.events/event/teen-crafternoon-kits-pterodactyl-puppets
 -teen-area-107052
END:VEVENT
END:VCALENDAR
