BEGIN:VCALENDAR
VERSION:2.0
PRODID:-//Library Market//iCal Export//EN
BEGIN:VEVENT
SUMMARY:Teen Crafternoon Kits: Paint by Stickers (Teen Area)
UID:107053
DTSTAMP:20260425T035000Z
DTSTART:20260629T160000Z
DTEND:20260629T161500Z
LOCATION:7401 E. Skoog Blvd, Prescott Valley, AZ 86314, United States
ROOM: Teen Crafternoon Kits: Paint by Stickers (Teen Area)
DESCRIPTION:Come by the Prescott Valley Public Library&#039;s Teen Departm
 ent for Crafternoon Take-Home Kits, available weekly during the Summer Rea
 ding Program’s &quot;Unearth A Story&quot; theme. Each week brings a new
  creative project to explore! Kits can be picked up in the Teen Area while
  supplies last. This week&#039;s craft is Paint by Stickers.Registration i
 s not required—first-come, first-served.
URL:https://yavapai.events/event/teen-crafternoon-kits-paint-stickers-teen
 -area-107053
END:VEVENT
END:VCALENDAR
