BEGIN:VCALENDAR
VERSION:2.0
PRODID:-//Library Market//iCal Export//EN
BEGIN:VEVENT
SUMMARY:Teen Crafternoon Kits: Painted Paper Fans (Teen Area)
UID:107055
DTSTAMP:20260423T003100Z
DTSTART:20260713T160000Z
DTEND:20260713T161500Z
LOCATION:7401 E. Skoog Blvd, Prescott Valley, AZ 86314, United States
ROOM: Teen Crafternoon Kits: Painted Paper Fans (Teen Area)
DESCRIPTION:Come by the Prescott Valley Public Library&#039;s Teen Departm
 ent for Crafternoon Take-Home Kits, available weekly during the Summer Rea
 ding Program’s &quot;Unearth A Story&quot; theme. Each week brings a new
  creative project to explore! Kits can be picked up in the Teen Area while
  supplies last. This week&#039;s craft is Painted Paper Fans.Registration 
 is not required—first-come, first-served.
URL:https://yavapai.events/event/teen-crafternoon-kits-painted-paper-fans-
 teen-area-107055
END:VEVENT
END:VCALENDAR
