BEGIN:VCALENDAR
VERSION:2.0
PRODID:-//Library Market//iCal Export//EN
BEGIN:VEVENT
SUMMARY:Teen Culture Café: Egypt and Mesopotamia
UID:107057
DTSTAMP:20260424T224200Z
DTSTART:20260610T210000Z
DTEND:20260610T223000Z
LOCATION:7401 E. Skoog Blvd, Prescott Valley, AZ 86314, United States
ROOM: Prescott Valley Public Library - Crystal Room
DESCRIPTION:Teen Culture Café: Egypt and MesopotamiaUnearth a story in th
 e ancient worlds of Egypt and Mesopotamia. From Rosetta Stone code deciphe
 ring to Pyramid painting, this Teen Culture Café invites you to experienc
 e the cultures of Egypt and Mesopotamia. Color, play games, join an activi
 ty, or try a new snack!Wednesday, June 10, 2026Time: 2 PMCrystal Room, Thi
 rd FloorFirst-come, first-served.
URL:https://yavapai.events/event/teen-culture-cafe-egypt-and-mesopotamia-1
 07057
END:VEVENT
END:VCALENDAR
