BEGIN:VCALENDAR
VERSION:2.0
PRODID:-//Library Market//iCal Export//EN
BEGIN:VEVENT
SUMMARY:Teen Canines &amp; Cookies: Dig the Vibes (Therapy Dogs)
UID:107058
DTSTAMP:20260423T021700Z
DTSTART:20260617T210000Z
DTEND:20260617T223000Z
LOCATION:7401 E. Skoog Blvd, Prescott Valley, AZ 86314, United States
ROOM: Prescott Valley Public Library - Crystal Room
DESCRIPTION:Therapy dogs, cookies, games, and creative chaos. Come chill, 
 hang out, and unearth a story (or at least a new favorite dog). For teens 
 12-18. Registration is not required.First-come, first-served.
URL:https://yavapai.events/event/teen-canines-cookies-dig-vibes-therapy-do
 gs-107058
END:VEVENT
END:VCALENDAR
