BEGIN:VCALENDAR
VERSION:2.0
PRODID:-//Library Market//iCal Export//EN
BEGIN:VEVENT
SUMMARY:Book Discussion: James by Percival Everett
UID:107061
DTSTAMP:20260423T003100Z
DTSTART:20260925T170000Z
DTEND:20260925T180000Z
LOCATION:17320 E Mule Deer Dr, Spring Valley, AZ 86333, United States
ROOM: Spring Valley Library - Community Meeting Room
DESCRIPTION:Join Friends and neighbors as we discuss &quot;James&quot; by 
 Percival Everett.Â PULITZER PRIZE WINNER â€¢ #1 NEW YORK TIMES BESTSELLER 
 â€¢ NATIONAL BOOK AWARD WINNER â€¢ A brilliant, action-packed reimagining 
 of Adventures of Huckleberry Finn, both harrowing and darkly humorous, tol
 d from the enslaved Jim&#039;s point of view â€¢ In development as a featu
 re film to be produced by Steven SpielbergKIRKUS PRIZE WINNER â€¢ NATIONAL
  BOOK CRITICS CIRCLE AWARD FINALIST â€¢ SHORTLISTED FOR THE BOOKER PRIZE â
 €¢ A Best Book of the Year: The New York Times Book Review, LA Times, The 
 New Yorker, The Atlantic, The Economist, TIME, and more.&quot;Genius&quot;
 â€”The Atlantic â€¢ &quot;A masterpiece that will help redefine one of the
  classics of American literature, while also being a major achievement on 
 its own.&quot;â€”Chicago Tribune â€¢ &quot;A provocative, enlightening lit
 erary work of art.&quot;â€”The Boston Globe â€¢ &quot;Everettâ€™s most thr
 illing novel, but also his most soulful.&quot;â€”The New York TimesWhen Ji
 m overhears that he is about to be sold to a man in New Orleans, separated
  from his wife and daughter forever, he runs away until he can formulate a
  plan. Meanwhile, Huck has faked his own death to escape his violent fathe
 r. As all readers of American literature know, thus begins the dangerous a
 nd transcendent journey by raft down the Mississippi River toward the elus
 ive and unreliable promise of the Free States and beyond.â€¯Brimming with 
 the electrifying humor and lacerating observations that have made Everett 
 a literary icon,â€¯this brilliant and tender novel radicallyâ€¯illuminates
  Jimâ€™s agency, intelligence, and compassion as never before. James is de
 stined to be a major publishing event and a cornerstone of twenty-first ce
 ntury American literature.See Ted for a book. Â Questions? Â Call the Libr
 ary.
URL:https://yavapai.events/event/book-discussion-james-percival-everett-10
 7061
END:VEVENT
END:VCALENDAR
