BEGIN:VCALENDAR
VERSION:2.0
PRODID:-//Library Market//iCal Export//EN
BEGIN:VEVENT
SUMMARY:General Plan Open House
UID:107068
DTSTAMP:20260423T021700Z
DTSTART:20260609T200000Z
DTEND:20260609T220000Z
LOCATION:130 Black Bridge Rd, Camp Verde, AZ 86322, United States
ROOM: Camp Verde Community Library - Terracotta Room
DESCRIPTION:.
URL:https://yavapai.events/event/general-plan-open-house-107068
END:VEVENT
END:VCALENDAR
