BEGIN:VCALENDAR
VERSION:2.0
PRODID:-//Library Market//iCal Export//EN
BEGIN:VEVENT
SUMMARY:250th Anniversary Quilting Workshop
UID:107078
DTSTAMP:20260423T055200Z
DTSTART:20260515T190000Z
DTEND:20260515T210000Z
LOCATION:34701 S Old Black Canyon Highway, Black Canyon City, AZ 85324, Un
 ited States
ROOM: Black Canyon City Community Library - Children&#039;s Room
DESCRIPTION:Sassy Sewing Sisters Quilting Group will be visiting our libra
 ry to help our patrons to put together a wall quilt that will be on displa
 y at our library.  Come help this group put together a beautiful work of 
 art for the community!   
URL:https://yavapai.events/event/250th-anniversary-quilting-workshop-10707
 8
END:VEVENT
END:VCALENDAR
