BEGIN:VCALENDAR
VERSION:2.0
PRODID:-//Library Market//iCal Export//EN
BEGIN:VEVENT
SUMMARY:Summer Reading Dinosaur Visit
UID:107081
DTSTAMP:20260423T003100Z
DTSTART:20260523T180000Z
DTEND:20260523T191500Z
LOCATION:22278 S Highway 89, Yarnell, AZ 85362, United States
ROOM: Summer Reading Dinosaur Visit
DESCRIPTION:Friends of the Yarnell Library are proud to host Dino Crew Ent
 ertainment and their curious cast of dinosaurs from babies to full-grown T
 -Rex.  Come and help us launch the 2026 Summer Reading Program at the Yar
 nell Public Library.
URL:https://yavapai.events/event/summer-reading-dinosaur-visit-107081
END:VEVENT
END:VCALENDAR
