BEGIN:VCALENDAR
VERSION:2.0
PRODID:-//Library Market//iCal Export//EN
BEGIN:VEVENT
SUMMARY:Cybersecurity basics
UID:107082
DTSTAMP:20260424T190800Z
DTSTART:20260527T200000Z
DTEND:20260527T210000Z
LOCATION:22278 S Highway 89, Yarnell, AZ 85362, United States
ROOM: Cybersecurity basics
DESCRIPTION:Come and be educated on becoming safer while online--be it you
 r phone, tablet or computer.
URL:https://yavapai.events/event/cybersecurity-basics-107082
END:VEVENT
END:VCALENDAR
