BEGIN:VCALENDAR
VERSION:2.0
PRODID:-//Library Market//iCal Export//EN
BEGIN:VEVENT
SUMMARY:Take and Make May Craft
UID:107083
DTSTAMP:20260423T021700Z
DTSTART:20260505T170000Z
DTEND:20260505T230000Z
LOCATION:23550 S Towers Mountain Road, Crown King, AZ 86343, United States
ROOM: Take and Make May Craft
DESCRIPTION:Brighten any book with a Transparent Fried Flower Bookmark.  
 Real flowers, beautifully preserved.Ideal for Mother&#039;s Day gifting!
URL:https://yavapai.events/event/take-and-make-may-craft-107083
END:VEVENT
END:VCALENDAR
