BEGIN:VCALENDAR
VERSION:2.0
PRODID:-//Library Market//iCal Export//EN
BEGIN:VEVENT
SUMMARY:Mini-Greenhouse Take &amp; Make Kits
UID:107105
DTSTAMP:20260423T021700Z
DTSTART:20260526T170000Z
DTEND:20260526T230000Z
LOCATION:23550 S Towers Mountain Road, Crown King, AZ 86343, United States
ROOM: Mini-Greenhouse Take &amp; Make Kits
DESCRIPTION:Grow something wonderful at home with our Mini-Greenhouse Take
  &amp; Make Kit. Each kit includes a compact greenhouse, potting soil, see
 ds, and easy-to-follow instructions - everything you need to start your ow
 n little garden.Perfect for beginners, plant lovers, or anyone who enjoys 
 a hands-on project. Watch your seeds sprout, grow and thrive right from yo
 ur windowsill.
URL:https://yavapai.events/event/mini-greenhouse-take-make-kits-107105
END:VEVENT
END:VCALENDAR
