BEGIN:VCALENDAR
VERSION:2.0
PRODID:-//Library Market//iCal Export//EN
BEGIN:VEVENT
SUMMARY:Saturday Movie Matinee Jurassic Park 1993
UID:107112
DTSTAMP:20260424T203800Z
DTSTART:20260606T193000Z
DTEND:20260606T213000Z
LOCATION:2735 S Corral St, Humboldt, AZ 86329, United States
ROOM: Dewey-Humboldt Town Library - Lower Level (First Floor)
DESCRIPTION:Adventure is roaring into the Dewey-Humboldt Library! Join us 
 for a thrilling series of movie showings featuring the legendary Jurassic 
 Park films. We begin with the 1993 Jurassic Park. Bring your friends, your
  family, and your sense of adventure - its gong to be a roaring good time!
  
URL:https://yavapai.events/event/saturday-movie-matinee-jurassic-park-1993
 -107112
END:VEVENT
END:VCALENDAR
