BEGIN:VCALENDAR
VERSION:2.0
PRODID:-//Library Market//iCal Export//EN
BEGIN:VEVENT
SUMMARY:Saturday Movie Matinee The Lost World: Jurassic Park 1997
UID:107113
DTSTAMP:20260424T224200Z
DTSTART:20260613T193000Z
DTEND:20260613T213000Z
LOCATION:2735 S Corral St, Humboldt, AZ 86329, United States
ROOM: Saturday Movie Matinee The Lost World: Jurassic Park 1997
DESCRIPTION:Adventure is roaring into the Dewey-Humboldt Library! Join us 
 for a thrilling series of movie showings featuring the legendary Jurassic 
 Park films. Todays movie is The Lost World: Jurassic Park 1997. Bring your
  friends, your family, and your sense of adventure - its gong to be a roar
 ing good time! 
URL:https://yavapai.events/event/saturday-movie-matinee-lost-world-jurassi
 c-park-1997-107113
END:VEVENT
END:VCALENDAR
