BEGIN:VCALENDAR
VERSION:2.0
PRODID:-//Library Market//iCal Export//EN
BEGIN:VEVENT
SUMMARY:Saturday Movie Matinee Jurassic Park III
UID:107114
DTSTAMP:20260425T013800Z
DTSTART:20260627T193000Z
DTEND:20260627T213000Z
LOCATION:2735 S Corral St, Humboldt, AZ 86329, United States
ROOM: Dewey-Humboldt Town Library - Lower Level (First Floor)
DESCRIPTION:Adventure is roaring into the Dewey-Humboldt Library! Join us 
 for a thrilling series of movie showings featuring the legendary Jurassic 
 Park films. Todays movie is The Lost World: Jurassic Park 1997. Bring your
  friends, your family, and your sense of adventure - its gong to be a roar
 ing good time! 
URL:https://yavapai.events/event/saturday-movie-matinee-jurassic-park-iii-
 107114
END:VEVENT
END:VCALENDAR
