BEGIN:VCALENDAR
VERSION:2.0
PRODID:-//Library Market//iCal Export//EN
BEGIN:VEVENT
SUMMARY:Saturday Movie Matinee Jurassic World 2015
UID:107115
DTSTAMP:20260425T035000Z
DTSTART:20260704T193000Z
DTEND:20260704T213000Z
LOCATION:2735 S Corral St, Humboldt, AZ 86329, United States
ROOM: Dewey-Humboldt Town Library - Lower Level (First Floor)
DESCRIPTION:Adventure is roaring into the Dewey-Humboldt Library! Join us 
 for a thrilling series of movie showings featuring the legendary Jurassic 
 Park films. Todays movie is Jurassic World. Bring your friends, your famil
 y, and your sense of adventure - its gong to be a roaring good time! 
URL:https://yavapai.events/event/saturday-movie-matinee-jurassic-world-201
 5-107115
END:VEVENT
END:VCALENDAR
