BEGIN:VCALENDAR
VERSION:2.0
PRODID:-//Library Market//iCal Export//EN
BEGIN:VEVENT
SUMMARY:Watercolor Class
UID:107126
DTSTAMP:20260424T134200Z
DTSTART:20260529T190000Z
DTEND:20260529T210000Z
LOCATION:130 Black Bridge Rd, Camp Verde, AZ 86322, United States
ROOM: Camp Verde Community Library - Founders Room
DESCRIPTION:Watercolor Class weekly in May, led by Mary HaileNo experience
  needed. Join local artist, Mary Haile, for a fun and relaxing time learni
 ng to paint. All supplies provided for a $20 cash fee. Class time is 12:00
  - 2:00 p.m. Advance registration required, email mh325002@gmail.com to re
 serve your spot!Use of library space for a program by a third-party does 
 not imply endorsement, support, or co-sponsorship by the LIBRARY of the ac
 tivities that take place or of the beliefs of the groups using the library
  space. The LIBRARY’s participation in and/or support of a program does 
 not constitute an endorsement of the content of the program, or the views 
 expressed by participants. The LIBRARY and its employees will not be liabl
 e for the content of any program presented by a third party. 
URL:https://yavapai.events/event/watercolor-class-107126
END:VEVENT
END:VCALENDAR
