BEGIN:VCALENDAR
VERSION:2.0
PRODID:-//Library Market//iCal Export//EN
BEGIN:VEVENT
SUMMARY:Rock Painting: Red White and Blue!
UID:107144
DTSTAMP:20260424T134600Z
DTSTART:20260509T160000Z
DTEND:20260509T233000Z
LOCATION:34701 S Old Black Canyon Highway, Black Canyon City, AZ 85324, Un
 ited States
ROOM: Rock Painting: Red White and Blue!
DESCRIPTION:Stop in and paint a patriot rock!  We will have a table set u
 p with all the materials for you.  Share the rocks with the BCC Rocks Gar
 den out front, share with a friend or take home to enjoy.  Help celebrate
  the 250th Anniversary of the USA.
URL:https://yavapai.events/event/rock-painting-red-white-and-blue-107144
END:VEVENT
END:VCALENDAR
