BEGIN:VCALENDAR
VERSION:2.0
PRODID:-//Library Market//iCal Export//EN
BEGIN:VEVENT
SUMMARY:D &amp; D Play (Drop In)
UID:107145
DTSTAMP:20260424T102900Z
DTSTART:20260422T213000Z
DTEND:20260423T000000Z
LOCATION:17320 E Mule Deer Dr, Spring Valley, AZ 86333, United States
ROOM: Spring Valley Library - Community Meeting Room
DESCRIPTION:Join high school students for Dungeons and Dragons after schoo
 l.  Snacks provided.  Drop in.  
URL:https://yavapai.events/event/d-d-play-drop-107145
END:VEVENT
END:VCALENDAR
