BEGIN:VCALENDAR
VERSION:2.0
PRODID:-//Library Market//iCal Export//EN
BEGIN:VEVENT
SUMMARY:Book Bedazzle &amp; Chat
UID:107149
DTSTAMP:20260424T154700Z
DTSTART:20260515T003000Z
DTEND:20260515T020000Z
LOCATION:700 Palo Verde Bldg C, Bagdad, AZ 86321, United States
ROOM: Book Bedazzle &amp; Chat
DESCRIPTION:***After hours Adult Event*** Bling up your own book! Bring yo
 ur favorite book and give it a little sparkle. The Friends of the Library 
 will provide plenty of jewels and decorations so you can jazz up your  bo
 oks cover or spine in your own creative style. Enjoy a relaxed evening of 
 chatting, crafting and a light snack, with water and lemonade provided. Th
 is special after hours event is designed just for adults, making it easy f
 or parents to join us after work and enjoy some creative time to themselve
 s. Come add some shine to your shelf and unwind with other fellow book lov
 ers! 
URL:https://yavapai.events/event/book-bedazzle-chat-107149
END:VEVENT
END:VCALENDAR
