BEGIN:VCALENDAR
VERSION:2.0
PRODID:-//Library Market//iCal Export//EN
BEGIN:VEVENT
SUMMARY:Quilting
UID:107150
DTSTAMP:20260425T104000Z
DTSTART:20260731T170000Z
DTEND:20260731T190000Z
LOCATION:17320 E Mule Deer Dr, Spring Valley, AZ 86333, United States
ROOM: Quilting
DESCRIPTION:Join us for quilting.
URL:https://yavapai.events/event/quilting-107150
END:VEVENT
END:VCALENDAR
