BEGIN:VCALENDAR
VERSION:2.0
PRODID:-//Library Market//iCal Export//EN
BEGIN:VEVENT
SUMMARY:Summer Movie Wednesdays: Ice Age: Dawn of the Dinosaurs &amp; Ice 
 Age: Continental Drift
UID:107155
DTSTAMP:20260424T224200Z
DTSTART:20260610T203000Z
DTEND:20260610T233000Z
LOCATION:700 Palo Verde Bldg C, Bagdad, AZ 86321, United States
ROOM: Summer Movie Wednesdays: Ice Age: Dawn of the Dinosaurs &amp; Ice Ag
 e: Continental Drift
DESCRIPTION:Ice Age Double Feature for Summer Movies on Wednesdays at the 
 Library! Cool off with us during Summer Movie Wednesdays as we show Ice Ag
 e 3: Dawn of the Dinosaurs &amp; and Ice Age 4: Continental Drift, back to
  back! The Friends of the Library will be serving fresh popcorn and well h
 ave themed coloring pages to keep the fun going. Bring the family, enjoy t
 he movies, and chill out with a mid-week summer escape. 
URL:https://yavapai.events/event/summer-movie-wednesdays-ice-age-1-2-10715
 5
END:VEVENT
END:VCALENDAR
