BEGIN:VCALENDAR
VERSION:2.0
PRODID:-//Library Market//iCal Export//EN
BEGIN:VEVENT
SUMMARY:Summer Movie Wednesdays: Land Before Time &amp; Land Before Time X
 IV: Journey of the Brave
UID:107156
DTSTAMP:20260424T224200Z
DTSTART:20260617T203000Z
DTEND:20260617T233000Z
LOCATION:700 Palo Verde Bldg C, Bagdad, AZ 86321, United States
ROOM: Summer Movie Wednesdays: Land Before Time &amp; Land Before Time XIV
 : Journey of the Brave
DESCRIPTION:Double Feature for Summer Movies on Wednesdays at the Library!
  Cool off with us during Summer Movie Wednesdays as we show Land Before Ti
 me &amp; Land Before Time XIV: Journey of the Brave back to back! The Frie
 nds of the Library will be serving fresh popcorn and well have themed colo
 ring pages to keep the fun going. Bring the family, enjoy the movies, and 
 chill out with a mid-week summer escape. 
URL:https://yavapai.events/event/summer-movie-wednesdays-ice-age-1-2-10715
 6
END:VEVENT
END:VCALENDAR
