BEGIN:VCALENDAR
VERSION:2.0
PRODID:-//Library Market//iCal Export//EN
BEGIN:VEVENT
SUMMARY:Summer Movie Wednesdays: Night at the Museum &amp; Night At the Mu
 seum &amp; Night at the Museum: Battle of the Smithsonian
UID:107157
DTSTAMP:20260424T224200Z
DTSTART:20260624T203000Z
DTEND:20260624T233000Z
LOCATION:700 Palo Verde Bldg C, Bagdad, AZ 86321, United States
ROOM: Summer Movie Wednesdays: Night at the Museum &amp; Night At the Muse
 um &amp; Night at the Museum: Battle of the Smithsonian
DESCRIPTION:Double Feature for Summer Movies on Wednesdays at the Library!
  Cool off with us during Summer Movie Wednesdays as we show Night at the M
 useum &amp; Night at the Museum: Battle of the Smithsonian, back to back! 
 The Friends of the Library will be serving fresh popcorn and well have the
 med coloring pages to keep the fun going. Bring the family, enjoy the movi
 es, and chill out with a mid-week summer escape. 
URL:https://yavapai.events/event/summer-movie-wednesdays-ice-age-1-2-10715
 7
END:VEVENT
END:VCALENDAR
