BEGIN:VCALENDAR
VERSION:2.0
PRODID:-//Library Market//iCal Export//EN
BEGIN:VEVENT
SUMMARY:Summer Movie Wednesdays: Ice Age 1 &amp; 2
UID:107160
DTSTAMP:20260424T224200Z
DTSTART:20260715T203000Z
DTEND:20260715T233000Z
LOCATION:700 Palo Verde Bldg C, Bagdad, AZ 86321, United States
ROOM: Summer Movie Wednesdays: Ice Age 1 &amp; 2
DESCRIPTION:Ice Age Double Feature for Summer Movies on Wednesdays at the 
 Library! Cool off with us during Summer Movie Wednesdays as we show Ice Ag
 e and Ice Age 2: The Meltdown, back to back! The Friends of the Library wi
 ll be serving fresh popcorn and well have themed coloring pages to keep th
 e fun going. Bring the family, enjoy the movies, and chill out with a mid-
 week summer escape. 
URL:https://yavapai.events/event/summer-movie-wednesdays-ice-age-1-2-10716
 0
END:VEVENT
END:VCALENDAR
