BEGIN:VCALENDAR
VERSION:2.0
PRODID:-//Library Market//iCal Export//EN
BEGIN:VEVENT
SUMMARY:Music at the Clark
UID:107168
DTSTAMP:20260424T190800Z
DTSTART:20260527T210000Z
DTEND:20260527T223000Z
LOCATION:39 N Ninth Street, Clarkdale, AZ 86324, United States
ROOM: Clark Memorial Library - Library Space
DESCRIPTION:Bear Schutz will be presenting an afternoon of music and poetr
 y.
URL:https://yavapai.events/event/music-clark-107168
END:VEVENT
END:VCALENDAR
