BEGIN:VCALENDAR
VERSION:2.0
PRODID:-//Library Market//iCal Export//EN
BEGIN:VEVENT
SUMMARY:A Taste Through the History of Chocolate
UID:107172
DTSTAMP:20260425T020400Z
DTSTART:20260625T220000Z
DTEND:20260625T230000Z
LOCATION:4810 E Beaver Creek Lane, Rimrock, AZ 86335, United States
ROOM: A Taste Through the History of Chocolate
DESCRIPTION:Talk and tasting by local craft chocolate maker, Joanne Kim of
  Suna Chocolate, is a brief walk through the rich history of cacao and cho
 colate.Taste cacao as was ingested by the MesoamericansTo the drinking of 
 chocolate enjoyed by EuropeansFinally to chocolate as we know it today.Thi
 s program is being offered for adults, ages 16 and older. Please call or e
 mail to register as space is limited to 12 participants. 
URL:https://yavapai.events/event/taste-through-history-chocolate-107172
END:VEVENT
END:VCALENDAR
