BEGIN:VCALENDAR
VERSION:2.0
PRODID:-//Library Market//iCal Export//EN
BEGIN:VEVENT
SUMMARY:Verde Valley Farmers Market
UID:107180
DTSTAMP:20260425T013800Z
DTSTART:20260627T150000Z
DTEND:20260627T180000Z
LOCATION:Verde Valley Farmers Market, 75 E. Hollamon Street, Camp Verde, A
 Z 86322, United States
ROOM: Verde Valley Farmers Market
DESCRIPTION:Buy Local &amp; Eat Fresh2026 Season: May 9th to October 3rd, 
 each Saturday 8-11amOur traditional, non-profit farmers market has been a 
 dedicated community resource for Camp Verde, and the larger Verde Valley, 
 for more than two decades! With a focus on local and fresh food and agricu
 ltural products, customers can expect limited hot-prepared-food and artisa
 n vendors.The mission of Verde Valley Farmers Market is to establish a res
 ilient and secure food network in the Verde Valley, for growers and consum
 ers alike, by increasing local food equity. In effort to further this miss
 ion, the market is proud to offer nutrition assistance through Arizona’s
  Farmers Market Nutrition Program (FMNP) to eligible WIC and Senior custom
 ers.Visit our information booth during the market, or email us for more in
 formation at verdevalleyfarmersmarket@gmail.com.
URL:https://yavapai.events/event/verde-valley-farmers-market-107180
END:VEVENT
END:VCALENDAR
