BEGIN:VCALENDAR
VERSION:2.0
PRODID:-//Library Market//iCal Export//EN
BEGIN:VEVENT
SUMMARY:Kelly Cordes, Local Historian
UID:107197
DTSTAMP:20260425T115700Z
DTSTART:20260616T183000Z
DTEND:20260616T200000Z
LOCATION:10004 Wicks Ave, Mayer, AZ 86333, United States
ROOM: Mayer Public Library - Meeting Room
DESCRIPTION:Kelly Cordes is a local historian and fourth generation Yavapa
 i County resident. He has taught history for over 30 years.  He will give
  a presentation on local history
URL:https://yavapai.events/event/kelly-cordes-local-historian-107197
END:VEVENT
END:VCALENDAR
