BEGIN:VCALENDAR
VERSION:2.0
PRODID:-//Library Market//iCal Export//EN
BEGIN:VEVENT
SUMMARY:Desert Survival
UID:107198
DTSTAMP:20260425T132200Z
DTSTART:20260625T180000Z
DTEND:20260625T190000Z
LOCATION:17320 E Mule Deer Dr, Spring Valley, AZ 86333, United States
ROOM: Desert Survival
DESCRIPTION:If lost in the Sonoran Desert for days in the summer, how long
  would you survive? Join us for an active participation session testing yo
 ur survival skills: finding water, starting a fire, signaling and using a 
 survival kit. What are the three most critical factors determining your su
 rvival in the Sonoran Desert, especially in the summer?
URL:https://yavapai.events/event/desert-survival-107198
END:VEVENT
END:VCALENDAR
